BEGIN:VCALENDAR
VERSION:2.0
PRODID:-//Pet Chickens of Virginia Association - ECPv6.6.3//NONSGML v1.0//EN
CALSCALE:GREGORIAN
METHOD:PUBLISH
X-ORIGINAL-URL:https://pcova.com/content
X-WR-CALDESC:Events for Pet Chickens of Virginia Association
REFRESH-INTERVAL;VALUE=DURATION:PT1H
X-Robots-Tag:noindex
X-PUBLISHED-TTL:PT1H
BEGIN:VTIMEZONE
TZID:UTC
BEGIN:STANDARD
TZOFFSETFROM:+0000
TZOFFSETTO:+0000
TZNAME:UTC
DTSTART:20220101T000000
END:STANDARD
END:VTIMEZONE
BEGIN:VEVENT
DTSTART;TZID=UTC:20221001T090000
DTEND;TZID=UTC:20221001T120000
DTSTAMP:20260424T175131
CREATED:20220128T215303Z
LAST-MODIFIED:20220128T215305Z
UID:10000595-1664614800-1664625600@pcova.com
SUMMARY:Roanoke - The BlueRidge Market
DESCRIPTION:Come join us at The BlueRidge Market on 1st and 3rd Saturdays\, 9am-noon\, March-October. \n\n\n\nLive farm animals plus all the other goodies sold at a generic farmers market are welcome.  \n\n\n\nFor live animal vendors: Shade\, water\, and food are required as well as a tarp/sheet to place underneath your set up for easy clean up. \n\n\n\nVendors who are interested in getting a spot should message The BlueRidge Market at the web address included below. Vendor Spaces are $15 each for each weekend.
URL:https://pcova.com/content/event/roanoke-the-blueridge-market/2022-10-01/
LOCATION:Roanoke – The BlueRidge Market\, 775 Blue Ridge Blvd\, Roanoke\, VA\, 24012\, United States
ORGANIZER;CN="Host%3A Brittany Lipford":MAILTO:theblueridgemarketforall@gmail.com
END:VEVENT
BEGIN:VEVENT
DTSTART;TZID=UTC:20220903T090000
DTEND;TZID=UTC:20220903T120000
DTSTAMP:20260424T175131
CREATED:20220128T215303Z
LAST-MODIFIED:20220128T215305Z
UID:10000594-1662195600-1662206400@pcova.com
SUMMARY:Roanoke - The BlueRidge Market
DESCRIPTION:Come join us at The BlueRidge Market on 1st and 3rd Saturdays\, 9am-noon\, March-October. \n\n\n\nLive farm animals plus all the other goodies sold at a generic farmers market are welcome.  \n\n\n\nFor live animal vendors: Shade\, water\, and food are required as well as a tarp/sheet to place underneath your set up for easy clean up. \n\n\n\nVendors who are interested in getting a spot should message The BlueRidge Market at the web address included below. Vendor Spaces are $15 each for each weekend.
URL:https://pcova.com/content/event/roanoke-the-blueridge-market/2022-09-03/
LOCATION:Roanoke – The BlueRidge Market\, 775 Blue Ridge Blvd\, Roanoke\, VA\, 24012\, United States
ORGANIZER;CN="Host%3A Brittany Lipford":MAILTO:theblueridgemarketforall@gmail.com
END:VEVENT
BEGIN:VEVENT
DTSTART;TZID=UTC:20220806T090000
DTEND;TZID=UTC:20220806T120000
DTSTAMP:20260424T175131
CREATED:20220128T215303Z
LAST-MODIFIED:20220128T215305Z
UID:10000593-1659776400-1659787200@pcova.com
SUMMARY:Roanoke - The BlueRidge Market
DESCRIPTION:Come join us at The BlueRidge Market on 1st and 3rd Saturdays\, 9am-noon\, March-October. \n\n\n\nLive farm animals plus all the other goodies sold at a generic farmers market are welcome.  \n\n\n\nFor live animal vendors: Shade\, water\, and food are required as well as a tarp/sheet to place underneath your set up for easy clean up. \n\n\n\nVendors who are interested in getting a spot should message The BlueRidge Market at the web address included below. Vendor Spaces are $15 each for each weekend.
URL:https://pcova.com/content/event/roanoke-the-blueridge-market/2022-08-06/
LOCATION:Roanoke – The BlueRidge Market\, 775 Blue Ridge Blvd\, Roanoke\, VA\, 24012\, United States
ORGANIZER;CN="Host%3A Brittany Lipford":MAILTO:theblueridgemarketforall@gmail.com
END:VEVENT
BEGIN:VEVENT
DTSTART;TZID=UTC:20220702T090000
DTEND;TZID=UTC:20220702T120000
DTSTAMP:20260424T175131
CREATED:20220128T215303Z
LAST-MODIFIED:20220128T215305Z
UID:10000592-1656752400-1656763200@pcova.com
SUMMARY:Roanoke - The BlueRidge Market
DESCRIPTION:Come join us at The BlueRidge Market on 1st and 3rd Saturdays\, 9am-noon\, March-October. \n\n\n\nLive farm animals plus all the other goodies sold at a generic farmers market are welcome.  \n\n\n\nFor live animal vendors: Shade\, water\, and food are required as well as a tarp/sheet to place underneath your set up for easy clean up. \n\n\n\nVendors who are interested in getting a spot should message The BlueRidge Market at the web address included below. Vendor Spaces are $15 each for each weekend.
URL:https://pcova.com/content/event/roanoke-the-blueridge-market/2022-07-02/
LOCATION:Roanoke – The BlueRidge Market\, 775 Blue Ridge Blvd\, Roanoke\, VA\, 24012\, United States
ORGANIZER;CN="Host%3A Brittany Lipford":MAILTO:theblueridgemarketforall@gmail.com
END:VEVENT
BEGIN:VEVENT
DTSTART;TZID=UTC:20220604T090000
DTEND;TZID=UTC:20220604T120000
DTSTAMP:20260424T175131
CREATED:20220128T215303Z
LAST-MODIFIED:20220128T215305Z
UID:10000591-1654333200-1654344000@pcova.com
SUMMARY:Roanoke - The BlueRidge Market
DESCRIPTION:Come join us at The BlueRidge Market on 1st and 3rd Saturdays\, 9am-noon\, March-October. \n\n\n\nLive farm animals plus all the other goodies sold at a generic farmers market are welcome.  \n\n\n\nFor live animal vendors: Shade\, water\, and food are required as well as a tarp/sheet to place underneath your set up for easy clean up. \n\n\n\nVendors who are interested in getting a spot should message The BlueRidge Market at the web address included below. Vendor Spaces are $15 each for each weekend.
URL:https://pcova.com/content/event/roanoke-the-blueridge-market/2022-06-04/
LOCATION:Roanoke – The BlueRidge Market\, 775 Blue Ridge Blvd\, Roanoke\, VA\, 24012\, United States
ORGANIZER;CN="Host%3A Brittany Lipford":MAILTO:theblueridgemarketforall@gmail.com
END:VEVENT
BEGIN:VEVENT
DTSTART;TZID=UTC:20220507T090000
DTEND;TZID=UTC:20220507T120000
DTSTAMP:20260424T175131
CREATED:20220128T215303Z
LAST-MODIFIED:20220128T215305Z
UID:10000590-1651914000-1651924800@pcova.com
SUMMARY:Roanoke - The BlueRidge Market
DESCRIPTION:Come join us at The BlueRidge Market on 1st and 3rd Saturdays\, 9am-noon\, March-October. \n\n\n\nLive farm animals plus all the other goodies sold at a generic farmers market are welcome.  \n\n\n\nFor live animal vendors: Shade\, water\, and food are required as well as a tarp/sheet to place underneath your set up for easy clean up. \n\n\n\nVendors who are interested in getting a spot should message The BlueRidge Market at the web address included below. Vendor Spaces are $15 each for each weekend.
URL:https://pcova.com/content/event/roanoke-the-blueridge-market/2022-05-07/
LOCATION:Roanoke – The BlueRidge Market\, 775 Blue Ridge Blvd\, Roanoke\, VA\, 24012\, United States
ORGANIZER;CN="Host%3A Brittany Lipford":MAILTO:theblueridgemarketforall@gmail.com
END:VEVENT
BEGIN:VEVENT
DTSTART;TZID=UTC:20220402T090000
DTEND;TZID=UTC:20220402T120000
DTSTAMP:20260424T175131
CREATED:20220128T215303Z
LAST-MODIFIED:20220128T215305Z
UID:10000589-1648890000-1648900800@pcova.com
SUMMARY:Roanoke - The BlueRidge Market
DESCRIPTION:Come join us at The BlueRidge Market on 1st and 3rd Saturdays\, 9am-noon\, March-October. \n\n\n\nLive farm animals plus all the other goodies sold at a generic farmers market are welcome.  \n\n\n\nFor live animal vendors: Shade\, water\, and food are required as well as a tarp/sheet to place underneath your set up for easy clean up. \n\n\n\nVendors who are interested in getting a spot should message The BlueRidge Market at the web address included below. Vendor Spaces are $15 each for each weekend.
URL:https://pcova.com/content/event/roanoke-the-blueridge-market/2022-04-02/
LOCATION:Roanoke – The BlueRidge Market\, 775 Blue Ridge Blvd\, Roanoke\, VA\, 24012\, United States
ORGANIZER;CN="Host%3A Brittany Lipford":MAILTO:theblueridgemarketforall@gmail.com
END:VEVENT
BEGIN:VEVENT
DTSTART;TZID=UTC:20220305T090000
DTEND;TZID=UTC:20220305T120000
DTSTAMP:20260424T175131
CREATED:20220128T215303Z
LAST-MODIFIED:20220128T215305Z
UID:10000588-1646470800-1646481600@pcova.com
SUMMARY:Roanoke - The BlueRidge Market
DESCRIPTION:Come join us at The BlueRidge Market on 1st and 3rd Saturdays\, 9am-noon\, March-October. \n\n\n\nLive farm animals plus all the other goodies sold at a generic farmers market are welcome.  \n\n\n\nFor live animal vendors: Shade\, water\, and food are required as well as a tarp/sheet to place underneath your set up for easy clean up. \n\n\n\nVendors who are interested in getting a spot should message The BlueRidge Market at the web address included below. Vendor Spaces are $15 each for each weekend.
URL:https://pcova.com/content/event/roanoke-the-blueridge-market/2022-03-05/
LOCATION:Roanoke – The BlueRidge Market\, 775 Blue Ridge Blvd\, Roanoke\, VA\, 24012\, United States
ORGANIZER;CN="Host%3A Brittany Lipford":MAILTO:theblueridgemarketforall@gmail.com
END:VEVENT
END:VCALENDAR