BEGIN:VCALENDAR
VERSION:2.0
PRODID:-//Pet Chickens of Virginia Association - ECPv6.6.3//NONSGML v1.0//EN
CALSCALE:GREGORIAN
METHOD:PUBLISH
X-ORIGINAL-URL:https://pcova.com/content
X-WR-CALDESC:Events for Pet Chickens of Virginia Association
REFRESH-INTERVAL;VALUE=DURATION:PT1H
X-Robots-Tag:noindex
X-PUBLISHED-TTL:PT1H
BEGIN:VTIMEZONE
TZID:UTC
BEGIN:STANDARD
TZOFFSETFROM:+0000
TZOFFSETTO:+0000
TZNAME:UTC
DTSTART:20220101T000000
END:STANDARD
END:VTIMEZONE
BEGIN:VEVENT
DTSTART;TZID=UTC:20230128T080000
DTEND;TZID=UTC:20230128T130000
DTSTAMP:20260424T163333
CREATED:20220121T234123Z
LAST-MODIFIED:20220128T224556Z
UID:10000561-1674892800-1674910800@pcova.com
SUMMARY:Suffolk Swap
DESCRIPTION:Join us for the Suffolk Swap!  \n\n\n\nLAST Saturdays\, March-November \n\n\n\nVendor spots are 1st come\, 1st served \n\n\n\n*This swap has 2 independent Facebook groups. Links have been provided below.*
URL:https://pcova.com/content/event/suffolk-swap/2023-01-28/
LOCATION:Suffolk – Tractor Supply Co.\, 3000 Pruden Blvd\, Suffolk\, Virginia\, 23434\, United States
GEO:36.772456365334;-76.609844635582
X-APPLE-STRUCTURED-LOCATION;VALUE=URI;X-ADDRESS=Suffolk – Tractor Supply Co. 3000 Pruden Blvd Suffolk Virginia 23434 United States;X-APPLE-RADIUS=500;X-TITLE=3000 Pruden Blvd:geo:-76.609844635582,36.772456365334
END:VEVENT
BEGIN:VEVENT
DTSTART;TZID=UTC:20221231T080000
DTEND;TZID=UTC:20221231T130000
DTSTAMP:20260424T163333
CREATED:20220121T234123Z
LAST-MODIFIED:20220128T224556Z
UID:10000560-1672473600-1672491600@pcova.com
SUMMARY:Suffolk Swap
DESCRIPTION:Join us for the Suffolk Swap!  \n\n\n\nLAST Saturdays\, March-November \n\n\n\nVendor spots are 1st come\, 1st served \n\n\n\n*This swap has 2 independent Facebook groups. Links have been provided below.*
URL:https://pcova.com/content/event/suffolk-swap/2022-12-31/
LOCATION:Suffolk – Tractor Supply Co.\, 3000 Pruden Blvd\, Suffolk\, Virginia\, 23434\, United States
GEO:36.772456365334;-76.609844635582
X-APPLE-STRUCTURED-LOCATION;VALUE=URI;X-ADDRESS=Suffolk – Tractor Supply Co. 3000 Pruden Blvd Suffolk Virginia 23434 United States;X-APPLE-RADIUS=500;X-TITLE=3000 Pruden Blvd:geo:-76.609844635582,36.772456365334
END:VEVENT
BEGIN:VEVENT
DTSTART;TZID=UTC:20221126T080000
DTEND;TZID=UTC:20221126T130000
DTSTAMP:20260424T163333
CREATED:20220121T234123Z
LAST-MODIFIED:20220128T224556Z
UID:10000559-1669449600-1669467600@pcova.com
SUMMARY:Suffolk Swap
DESCRIPTION:Join us for the Suffolk Swap!  \n\n\n\nLAST Saturdays\, March-November \n\n\n\nVendor spots are 1st come\, 1st served \n\n\n\n*This swap has 2 independent Facebook groups. Links have been provided below.*
URL:https://pcova.com/content/event/suffolk-swap/2022-11-26/
LOCATION:Suffolk – Tractor Supply Co.\, 3000 Pruden Blvd\, Suffolk\, Virginia\, 23434\, United States
GEO:36.772456365334;-76.609844635582
X-APPLE-STRUCTURED-LOCATION;VALUE=URI;X-ADDRESS=Suffolk – Tractor Supply Co. 3000 Pruden Blvd Suffolk Virginia 23434 United States;X-APPLE-RADIUS=500;X-TITLE=3000 Pruden Blvd:geo:-76.609844635582,36.772456365334
END:VEVENT
BEGIN:VEVENT
DTSTART;TZID=UTC:20221029T080000
DTEND;TZID=UTC:20221029T130000
DTSTAMP:20260424T163333
CREATED:20220121T234123Z
LAST-MODIFIED:20220128T224556Z
UID:10000558-1667030400-1667048400@pcova.com
SUMMARY:Suffolk Swap
DESCRIPTION:Join us for the Suffolk Swap!  \n\n\n\nLAST Saturdays\, March-November \n\n\n\nVendor spots are 1st come\, 1st served \n\n\n\n*This swap has 2 independent Facebook groups. Links have been provided below.*
URL:https://pcova.com/content/event/suffolk-swap/2022-10-29/
LOCATION:Suffolk – Tractor Supply Co.\, 3000 Pruden Blvd\, Suffolk\, Virginia\, 23434\, United States
GEO:36.772456365334;-76.609844635582
X-APPLE-STRUCTURED-LOCATION;VALUE=URI;X-ADDRESS=Suffolk – Tractor Supply Co. 3000 Pruden Blvd Suffolk Virginia 23434 United States;X-APPLE-RADIUS=500;X-TITLE=3000 Pruden Blvd:geo:-76.609844635582,36.772456365334
END:VEVENT
BEGIN:VEVENT
DTSTART;TZID=UTC:20220924T080000
DTEND;TZID=UTC:20220924T130000
DTSTAMP:20260424T163333
CREATED:20220121T234123Z
LAST-MODIFIED:20220128T224556Z
UID:10000557-1664006400-1664024400@pcova.com
SUMMARY:Suffolk Swap
DESCRIPTION:Join us for the Suffolk Swap!  \n\n\n\nLAST Saturdays\, March-November \n\n\n\nVendor spots are 1st come\, 1st served \n\n\n\n*This swap has 2 independent Facebook groups. Links have been provided below.*
URL:https://pcova.com/content/event/suffolk-swap/2022-09-24/
LOCATION:Suffolk – Tractor Supply Co.\, 3000 Pruden Blvd\, Suffolk\, Virginia\, 23434\, United States
GEO:36.772456365334;-76.609844635582
X-APPLE-STRUCTURED-LOCATION;VALUE=URI;X-ADDRESS=Suffolk – Tractor Supply Co. 3000 Pruden Blvd Suffolk Virginia 23434 United States;X-APPLE-RADIUS=500;X-TITLE=3000 Pruden Blvd:geo:-76.609844635582,36.772456365334
END:VEVENT
BEGIN:VEVENT
DTSTART;TZID=UTC:20220827T080000
DTEND;TZID=UTC:20220827T130000
DTSTAMP:20260424T163333
CREATED:20220121T234123Z
LAST-MODIFIED:20220128T224556Z
UID:10000556-1661587200-1661605200@pcova.com
SUMMARY:Suffolk Swap
DESCRIPTION:Join us for the Suffolk Swap!  \n\n\n\nLAST Saturdays\, March-November \n\n\n\nVendor spots are 1st come\, 1st served \n\n\n\n*This swap has 2 independent Facebook groups. Links have been provided below.*
URL:https://pcova.com/content/event/suffolk-swap/2022-08-27/
LOCATION:Suffolk – Tractor Supply Co.\, 3000 Pruden Blvd\, Suffolk\, Virginia\, 23434\, United States
GEO:36.772456365334;-76.609844635582
X-APPLE-STRUCTURED-LOCATION;VALUE=URI;X-ADDRESS=Suffolk – Tractor Supply Co. 3000 Pruden Blvd Suffolk Virginia 23434 United States;X-APPLE-RADIUS=500;X-TITLE=3000 Pruden Blvd:geo:-76.609844635582,36.772456365334
END:VEVENT
BEGIN:VEVENT
DTSTART;TZID=UTC:20220730T080000
DTEND;TZID=UTC:20220730T130000
DTSTAMP:20260424T163333
CREATED:20220121T234123Z
LAST-MODIFIED:20220128T224556Z
UID:10000555-1659168000-1659186000@pcova.com
SUMMARY:Suffolk Swap
DESCRIPTION:Join us for the Suffolk Swap!  \n\n\n\nLAST Saturdays\, March-November \n\n\n\nVendor spots are 1st come\, 1st served \n\n\n\n*This swap has 2 independent Facebook groups. Links have been provided below.*
URL:https://pcova.com/content/event/suffolk-swap/2022-07-30/
LOCATION:Suffolk – Tractor Supply Co.\, 3000 Pruden Blvd\, Suffolk\, Virginia\, 23434\, United States
GEO:36.772456365334;-76.609844635582
X-APPLE-STRUCTURED-LOCATION;VALUE=URI;X-ADDRESS=Suffolk – Tractor Supply Co. 3000 Pruden Blvd Suffolk Virginia 23434 United States;X-APPLE-RADIUS=500;X-TITLE=3000 Pruden Blvd:geo:-76.609844635582,36.772456365334
END:VEVENT
BEGIN:VEVENT
DTSTART;TZID=UTC:20220625T080000
DTEND;TZID=UTC:20220625T130000
DTSTAMP:20260424T163333
CREATED:20220121T234123Z
LAST-MODIFIED:20220128T224556Z
UID:10000554-1656144000-1656162000@pcova.com
SUMMARY:Suffolk Swap
DESCRIPTION:Join us for the Suffolk Swap!  \n\n\n\nLAST Saturdays\, March-November \n\n\n\nVendor spots are 1st come\, 1st served \n\n\n\n*This swap has 2 independent Facebook groups. Links have been provided below.*
URL:https://pcova.com/content/event/suffolk-swap/2022-06-25/
LOCATION:Suffolk – Tractor Supply Co.\, 3000 Pruden Blvd\, Suffolk\, Virginia\, 23434\, United States
GEO:36.772456365334;-76.609844635582
X-APPLE-STRUCTURED-LOCATION;VALUE=URI;X-ADDRESS=Suffolk – Tractor Supply Co. 3000 Pruden Blvd Suffolk Virginia 23434 United States;X-APPLE-RADIUS=500;X-TITLE=3000 Pruden Blvd:geo:-76.609844635582,36.772456365334
END:VEVENT
BEGIN:VEVENT
DTSTART;TZID=UTC:20220528T080000
DTEND;TZID=UTC:20220528T130000
DTSTAMP:20260424T163333
CREATED:20220121T234123Z
LAST-MODIFIED:20220128T224556Z
UID:10000553-1653724800-1653742800@pcova.com
SUMMARY:Suffolk Swap
DESCRIPTION:Join us for the Suffolk Swap!  \n\n\n\nLAST Saturdays\, March-November \n\n\n\nVendor spots are 1st come\, 1st served \n\n\n\n*This swap has 2 independent Facebook groups. Links have been provided below.*
URL:https://pcova.com/content/event/suffolk-swap/2022-05-28/
LOCATION:Suffolk – Tractor Supply Co.\, 3000 Pruden Blvd\, Suffolk\, Virginia\, 23434\, United States
GEO:36.772456365334;-76.609844635582
X-APPLE-STRUCTURED-LOCATION;VALUE=URI;X-ADDRESS=Suffolk – Tractor Supply Co. 3000 Pruden Blvd Suffolk Virginia 23434 United States;X-APPLE-RADIUS=500;X-TITLE=3000 Pruden Blvd:geo:-76.609844635582,36.772456365334
END:VEVENT
BEGIN:VEVENT
DTSTART;TZID=UTC:20220430T080000
DTEND;TZID=UTC:20220430T130000
DTSTAMP:20260424T163333
CREATED:20220121T234123Z
LAST-MODIFIED:20220128T224556Z
UID:10000552-1651305600-1651323600@pcova.com
SUMMARY:Suffolk Swap
DESCRIPTION:Join us for the Suffolk Swap!  \n\n\n\nLAST Saturdays\, March-November \n\n\n\nVendor spots are 1st come\, 1st served \n\n\n\n*This swap has 2 independent Facebook groups. Links have been provided below.*
URL:https://pcova.com/content/event/suffolk-swap/2022-04-30/
LOCATION:Suffolk – Tractor Supply Co.\, 3000 Pruden Blvd\, Suffolk\, Virginia\, 23434\, United States
GEO:36.772456365334;-76.609844635582
X-APPLE-STRUCTURED-LOCATION;VALUE=URI;X-ADDRESS=Suffolk – Tractor Supply Co. 3000 Pruden Blvd Suffolk Virginia 23434 United States;X-APPLE-RADIUS=500;X-TITLE=3000 Pruden Blvd:geo:-76.609844635582,36.772456365334
END:VEVENT
BEGIN:VEVENT
DTSTART;TZID=UTC:20220326T080000
DTEND;TZID=UTC:20220326T130000
DTSTAMP:20260424T163333
CREATED:20220121T234123Z
LAST-MODIFIED:20220128T224556Z
UID:10000551-1648281600-1648299600@pcova.com
SUMMARY:Suffolk Swap
DESCRIPTION:Join us for the Suffolk Swap!  \n\n\n\nLAST Saturdays\, March-November \n\n\n\nVendor spots are 1st come\, 1st served \n\n\n\n*This swap has 2 independent Facebook groups. Links have been provided below.*
URL:https://pcova.com/content/event/suffolk-swap/2022-03-26/
LOCATION:Suffolk – Tractor Supply Co.\, 3000 Pruden Blvd\, Suffolk\, Virginia\, 23434\, United States
GEO:36.772456365334;-76.609844635582
X-APPLE-STRUCTURED-LOCATION;VALUE=URI;X-ADDRESS=Suffolk – Tractor Supply Co. 3000 Pruden Blvd Suffolk Virginia 23434 United States;X-APPLE-RADIUS=500;X-TITLE=3000 Pruden Blvd:geo:-76.609844635582,36.772456365334
END:VEVENT
END:VCALENDAR